BEGIN:VCALENDAR
VERSION:2.0
PRODID:-//kellogg.northwestern.edu///Outlook MIMEDIR//EN
X-WR-CALNAME: All Faculty Events
BEGIN:VEVENT
DTSTAMP:20260419T100118Z
DTSTART:20250917T203000Z
DTEND:20250917T220000Z
SUMMARY:Theory Workshop - Axel Niemeyer
X-ALT-DESC;FMTTYPE=text/html:Extreme Points in Multi-Dimensional Screening
DESCRIPTION:Extreme Points in Multi-Dimensional Screening
LOCATION:5101
SEQUENCE:0
UID:fe49ca5e-d8bd-44b2-b0a9-577d19d44507
END:VEVENT
END:VCALENDAR
