BEGIN:VCALENDAR
VERSION:2.0
PRODID:-//kellogg.northwestern.edu///Outlook MIMEDIR//EN
X-WR-CALNAME: All Faculty Events
BEGIN:VEVENT
DTSTAMP:20260425T071043Z
DTSTART:20181026T171500Z
DTEND:20181026T183000Z
SUMMARY:Marco Sammon
X-ALT-DESC;FMTTYPE=text/html:"What Triggers Stock Market Jumps?"
DESCRIPTION:"What Triggers Stock Market Jumps?"
LOCATION:Kellogg Global Hub 5301
SEQUENCE:0
UID:fe2f4c69-d75e-40e2-92ad-7752e7207f1a
END:VEVENT
END:VCALENDAR
