BEGIN:VCALENDAR
VERSION:2.0
PRODID:-//kellogg.northwestern.edu///Outlook MIMEDIR//EN
X-WR-CALNAME: All Faculty Events
BEGIN:VEVENT
DTSTAMP:20260422T002600Z
DTSTART:20210216T180000Z
DTEND:20210216T190000Z
SUMMARY:Jung Youn Lee
X-ALT-DESC;FMTTYPE=text/html:Talk Title: TBA
DESCRIPTION:Talk Title: TBA
LOCATION:Virtual Event
SEQUENCE:0
UID:f994009a-cc3d-440c-94c7-5d1c78c2d466
END:VEVENT
END:VCALENDAR
