BEGIN:VCALENDAR
VERSION:2.0
PRODID:-//kellogg.northwestern.edu///Outlook MIMEDIR//EN
X-WR-CALNAME: All Faculty Events
BEGIN:VEVENT
DTSTAMP:20260419T151521Z
DTSTART:20190424T203000Z
DTEND:20190424T220000Z
SUMMARY:Faruk Gul
X-ALT-DESC;FMTTYPE=text/html:Title TBA
DESCRIPTION:Title TBA
LOCATION:Kellogg Global Hub 5101
SEQUENCE:0
UID:f81dfbb5-7076-4ff3-9f8c-69144d036c1d
END:VEVENT
END:VCALENDAR
