BEGIN:VCALENDAR
VERSION:2.0
PRODID:-//kellogg.northwestern.edu///Outlook MIMEDIR//EN
X-WR-CALNAME: All Faculty Events
BEGIN:VEVENT
DTSTAMP:20260423T122918Z
DTSTART:20230510T184500Z
DTEND:20230510T200000Z
SUMMARY:Raul Sanchez de la Sierra
X-ALT-DESC;FMTTYPE=text/html:Talk title tba
DESCRIPTION:Talk title tba
LOCATION:Kellogg Global Hub 4101, virtual option
SEQUENCE:0
UID:f79d3f43-b356-4b9c-b08f-1304fa800910
END:VEVENT
END:VCALENDAR
