BEGIN:VCALENDAR
VERSION:2.0
PRODID:-//kellogg.northwestern.edu///Outlook MIMEDIR//EN
X-WR-CALNAME: All Faculty Events
BEGIN:VEVENT
DTSTAMP:20260421T083304Z
DTSTART:20241002T184500Z
DTEND:20241002T200000Z
SUMMARY:Arnaud Dyevre
X-ALT-DESC;FMTTYPE=text/html:tba
DESCRIPTION:tba
LOCATION:Kellogg Global Hub 4101, virtual option
SEQUENCE:0
UID:f6e095dd-fd20-4f34-9999-c5f9b8b3df90
END:VEVENT
END:VCALENDAR
