BEGIN:VCALENDAR
VERSION:2.0
PRODID:-//kellogg.northwestern.edu///Outlook MIMEDIR//EN
X-WR-CALNAME: All Faculty Events
BEGIN:VEVENT
DTSTAMP:20260422T015800Z
DTSTART:20200422T170000Z
DTEND:20200422T183000Z
SUMMARY:Forrest Briscoe
X-ALT-DESC;FMTTYPE=text/html:TBD
DESCRIPTION:TBD
LOCATION:Kellogg Global Hub
SEQUENCE:0
UID:f4bc7ecd-f7f9-405b-8953-cb34ce05af5f
END:VEVENT
END:VCALENDAR
