BEGIN:VCALENDAR
VERSION:2.0
PRODID:-//kellogg.northwestern.edu///Outlook MIMEDIR//EN
X-WR-CALNAME: All Faculty Events
BEGIN:VEVENT
DTSTAMP:20260425T103737Z
DTSTART:20260520T170000Z
DTEND:20260520T180000Z
SUMMARY:Operations Seminar - Francisco Castro
X-ALT-DESC;FMTTYPE=text/html:Title TBA
DESCRIPTION:Title TBA
LOCATION:TBA
SEQUENCE:0
UID:f3888a19-10b1-448f-ae8c-ad09c1f04755
END:VEVENT
END:VCALENDAR
