BEGIN:VCALENDAR
VERSION:2.0
PRODID:-//kellogg.northwestern.edu///Outlook MIMEDIR//EN
X-WR-CALNAME: All Faculty Events
BEGIN:VEVENT
DTSTAMP:20260422T000750Z
DTSTART:20230203T163000Z
DTEND:20230203T180000Z
SUMMARY:Spencer Kwon
X-ALT-DESC;FMTTYPE=text/html:Investor Composition and Overreaction
DESCRIPTION:Investor Composition and Overreaction
LOCATION:Kellogg Global Hub KGH 4101
SEQUENCE:0
UID:f0bc71ea-94ef-4a56-a667-360a1cb7b2e6
END:VEVENT
END:VCALENDAR
