BEGIN:VCALENDAR
VERSION:2.0
PRODID:-//kellogg.northwestern.edu///Outlook MIMEDIR//EN
X-WR-CALNAME: All Faculty Events
BEGIN:VEVENT
DTSTAMP:20260421T100209Z
DTSTART:20190408T190000Z
DTEND:20190408T203000Z
SUMMARY:Riddha Basu
X-ALT-DESC;FMTTYPE=text/html:“Essays on Corporate Credit Ratings”
DESCRIPTION:“Essays on Corporate Credit Ratings”
LOCATION:Kellogg Global Hub 4302
SEQUENCE:0
UID:f075b882-afbe-4956-811d-919f9fd52674
END:VEVENT
END:VCALENDAR
