BEGIN:VCALENDAR
VERSION:2.0
PRODID:-//kellogg.northwestern.edu///Outlook MIMEDIR//EN
X-WR-CALNAME: All Faculty Events
BEGIN:VEVENT
DTSTAMP:20260421T153559Z
DTSTART:20250521T170000Z
DTEND:20250521T183000Z
SUMMARY:Jonah Berger
X-ALT-DESC;FMTTYPE=text/html:TBA
DESCRIPTION:TBA
LOCATION:Kellogg Global Hub 5101/Zoom
SEQUENCE:0
UID:eda61093-c819-429c-a33c-0713b3bef205
END:VEVENT
END:VCALENDAR
