BEGIN:VCALENDAR
VERSION:2.0
PRODID:-//kellogg.northwestern.edu///Outlook MIMEDIR//EN
X-WR-CALNAME: All Faculty Events
BEGIN:VEVENT
DTSTAMP:20260422T001238Z
DTSTART:20200122T180000Z
DTEND:20200122T193000Z
SUMMARY:Peer Fiss
X-ALT-DESC;FMTTYPE=text/html:The Causal Structure of Outcomes
DESCRIPTION:The Causal Structure of Outcomes
LOCATION:Kellogg Global Hub 5101
SEQUENCE:0
UID:ecb05ec9-59e4-4fa6-82ff-a87d53c15290
END:VEVENT
END:VCALENDAR
