BEGIN:VCALENDAR
VERSION:2.0
PRODID:-//kellogg.northwestern.edu///Outlook MIMEDIR//EN
X-WR-CALNAME: All Faculty Events
BEGIN:VEVENT
DTSTAMP:20260421T031858Z
DTSTART:20180404T203000Z
DTEND:20180404T220000Z
SUMMARY:Dezso Szalay
X-ALT-DESC;FMTTYPE=text/html:"Delegated Expertise, Authority, and Communication"
DESCRIPTION:"Delegated Expertise, Authority, and Communication"
LOCATION:Kellogg Global Hub 5101
SEQUENCE:0
UID:eb518dd9-f5a2-48b1-a3e9-c8d49336a84e
END:VEVENT
END:VCALENDAR
