BEGIN:VCALENDAR
VERSION:2.0
PRODID:-//kellogg.northwestern.edu///Outlook MIMEDIR//EN
X-WR-CALNAME: All Faculty Events
BEGIN:VEVENT
DTSTAMP:20260424T214937Z
DTSTART:20191016T160000Z
DTEND:20191016T171500Z
SUMMARY:Matthieu Gomez
X-ALT-DESC;FMTTYPE=text/html:"Displacement and the Rise in Top Wealth Inequality"
DESCRIPTION:"Displacement and the Rise in Top Wealth Inequality"
LOCATION:Kellogg Global Hub 4101
SEQUENCE:0
UID:ea90ede1-5f06-4717-8462-54003e0ab964
END:VEVENT
END:VCALENDAR
