BEGIN:VCALENDAR
VERSION:2.0
PRODID:-//kellogg.northwestern.edu///Outlook MIMEDIR//EN
X-WR-CALNAME: All Faculty Events
BEGIN:VEVENT
DTSTAMP:20260421T093623Z
DTSTART:20190220T180000Z
DTEND:20190220T190000Z
SUMMARY:Yash Kanoria
X-ALT-DESC;FMTTYPE=text/html:"State Dependent Control of Ride-Hailing Systems"
DESCRIPTION:"State Dependent Control of Ride-Hailing Systems"
LOCATION:Kellogg Global Hub 5101
SEQUENCE:0
UID:ea425696-eea9-4ed2-8b94-ac24ff51b4c2
END:VEVENT
END:VCALENDAR
