BEGIN:VCALENDAR
VERSION:2.0
PRODID:-//kellogg.northwestern.edu///Outlook MIMEDIR//EN
X-WR-CALNAME: All Faculty Events
BEGIN:VEVENT
DTSTAMP:20260419T203346Z
DTSTART:20191009T170000Z
DTEND:20191009T181500Z
SUMMARY:Ozalp Ozer
X-ALT-DESC;FMTTYPE=text/html:"Establishing Trust and Trustworthiness in Global Businesses"
DESCRIPTION:"Establishing Trust and Trustworthiness in Global Businesses"
LOCATION:Kellogg Global Hub 5101
SEQUENCE:0
UID:e8aa4f27-8bed-449e-a82b-163c2a85a434
END:VEVENT
END:VCALENDAR
