BEGIN:VCALENDAR
VERSION:2.0
PRODID:-//kellogg.northwestern.edu///Outlook MIMEDIR//EN
X-WR-CALNAME: All Faculty Events
BEGIN:VEVENT
DTSTAMP:20260421T154921Z
DTSTART:20250528T203000Z
DTEND:20250528T220000Z
SUMMARY:Theory Workshop - Hector Chade
X-ALT-DESC;FMTTYPE=text/html:“Initiative” (joint with J.Swinkels)
DESCRIPTION:“Initiative” (joint with J.Swinkels)
LOCATION:Kellogg Global Hub 5101
SEQUENCE:0
UID:e7dcc4d8-9c34-4988-bb3e-3804aae1e377
END:VEVENT
END:VCALENDAR
