BEGIN:VCALENDAR
VERSION:2.0
PRODID:-//kellogg.northwestern.edu///Outlook MIMEDIR//EN
X-WR-CALNAME: All Faculty Events
BEGIN:VEVENT
DTSTAMP:20260423T125500Z
DTSTART:20181107T193000Z
DTEND:20181107T210000Z
SUMMARY:Tom Lemieux
X-ALT-DESC;FMTTYPE=text/html:"Labor Market Institutions and the Distribution of Wages: The Role of Spillover Effects"
DESCRIPTION:"Labor Market Institutions and the Distribution of Wages: The Role of Spillover Effects"
LOCATION:Kellogg Global Hub 4302
SEQUENCE:0
UID:e6733cb0-6d0a-4045-8827-afe175d113fb
END:VEVENT
END:VCALENDAR
