BEGIN:VCALENDAR
VERSION:2.0
PRODID:-//kellogg.northwestern.edu///Outlook MIMEDIR//EN
X-WR-CALNAME: All Faculty Events
BEGIN:VEVENT
DTSTAMP:20260421T081339Z
DTSTART:20221117T180000Z
DTEND:20221117T190000Z
SUMMARY:Aaron Yoon
X-ALT-DESC;FMTTYPE=text/html:“The Insightful Leader Live: The Future of ESG” 
DESCRIPTION:“The Insightful Leader Live: The Future of ESG” 
LOCATION:Virtual Event
SEQUENCE:0
UID:e5a260f2-5644-4eba-9923-6087e65d0094
END:VEVENT
END:VCALENDAR
