BEGIN:VCALENDAR
VERSION:2.0
PRODID:-//kellogg.northwestern.edu///Outlook MIMEDIR//EN
X-WR-CALNAME: All Faculty Events
BEGIN:VEVENT
DTSTAMP:20260421T101628Z
DTSTART:20221116T213000Z
DTEND:20221116T230000Z
SUMMARY:Rohit Lamba
X-ALT-DESC;FMTTYPE=text/html:Uncertain Repeated Games
DESCRIPTION:Uncertain Repeated Games
LOCATION:Kellogg Global Hub 4101
SEQUENCE:0
UID:e2bdcef5-f0b8-44b9-a3e3-de5d04c69daf
END:VEVENT
END:VCALENDAR
