BEGIN:VCALENDAR
VERSION:2.0
PRODID:-//kellogg.northwestern.edu///Outlook MIMEDIR//EN
X-WR-CALNAME: All Faculty Events
BEGIN:VEVENT
DTSTAMP:20260421T044053Z
DTSTART:20210922T203000Z
DTEND:20210922T220000Z
SUMMARY:Kevin He
X-ALT-DESC;FMTTYPE=text/html:Evolutionarily Stable (Mis)specifications: Theory and Applications
DESCRIPTION:Evolutionarily Stable (Mis)specifications: Theory and Applications
LOCATION:Kellogg Global Hub 5101
SEQUENCE:0
UID:e2a7ad44-8164-4fe0-a9f1-b00d1dcd9931
END:VEVENT
END:VCALENDAR
