BEGIN:VCALENDAR
VERSION:2.0
PRODID:-//kellogg.northwestern.edu///Outlook MIMEDIR//EN
X-WR-CALNAME: All Faculty Events
BEGIN:VEVENT
DTSTAMP:20260425T223855Z
DTSTART:20241106T180000Z
DTEND:20241106T190000Z
SUMMARY:Operations Seminar - Hale Erkan
X-ALT-DESC;FMTTYPE=text/html:Why so many scooters? A policy analysis
DESCRIPTION:Why so many scooters? A policy analysis
LOCATION:Kellogg Global Hub 4101
SEQUENCE:0
UID:e1b21d29-afe2-4e65-9f8e-2bf5f6af2baa
END:VEVENT
END:VCALENDAR
