BEGIN:VCALENDAR
VERSION:2.0
PRODID:-//kellogg.northwestern.edu///Outlook MIMEDIR//EN
X-WR-CALNAME: All Faculty Events
BEGIN:VEVENT
DTSTAMP:20260421T135209Z
DTSTART:20231127T181500Z
DTEND:20231127T193000Z
SUMMARY:Political Economics Seminar - Gaétan Nandong
X-ALT-DESC;FMTTYPE=text/html:"Learning, Information and Deterrence in Political Contention"
DESCRIPTION:"Learning, Information and Deterrence in Political Contention"
LOCATION:Kellogg Global Hub 5301
SEQUENCE:0
UID:e1678e9f-3a10-4561-b1bf-6f1a4dbf0c24
END:VEVENT
END:VCALENDAR
