BEGIN:VCALENDAR
VERSION:2.0
PRODID:-//kellogg.northwestern.edu///Outlook MIMEDIR//EN
X-WR-CALNAME: All Faculty Events
BEGIN:VEVENT
DTSTAMP:20260421T211634Z
DTSTART:20170405T161500Z
DTEND:20170405T173000Z
SUMMARY:Michael Roberts
X-ALT-DESC;FMTTYPE=text/html:The History of the Cross Section of Stock Returns
DESCRIPTION:The History of the Cross Section of Stock Returns
LOCATION:Kellogg Global Hub L120
SEQUENCE:0
UID:dff0bd9c-8684-4d40-8ee2-46de974a65b8
END:VEVENT
END:VCALENDAR
