BEGIN:VCALENDAR
VERSION:2.0
PRODID:-//kellogg.northwestern.edu///Outlook MIMEDIR//EN
X-WR-CALNAME: All Faculty Events
BEGIN:VEVENT
DTSTAMP:20260422T180330Z
DTSTART:20230418T170500Z
DTEND:20230418T180500Z
SUMMARY:Itai Ater
X-ALT-DESC;FMTTYPE=text/html:Price Saliency and Fairness: Evidence from Regulatory Shaming
DESCRIPTION:Price Saliency and Fairness: Evidence from Regulatory Shaming
LOCATION:Kellogg Global Hub KGH 4302, virtual option
SEQUENCE:0
UID:de1987c6-fbf5-402a-bb8b-b6c1e4b5f036
END:VEVENT
END:VCALENDAR
