BEGIN:VCALENDAR
VERSION:2.0
PRODID:-//kellogg.northwestern.edu///Outlook MIMEDIR//EN
X-WR-CALNAME: All Faculty Events
BEGIN:VEVENT
DTSTAMP:20260419T181150Z
DTSTART:20210303T193000Z
DTEND:20210303T204500Z
SUMMARY:Thomas Bourveau
X-ALT-DESC;FMTTYPE=text/html:Title TBA
DESCRIPTION:Title TBA
LOCATION:Virtual Event
SEQUENCE:0
UID:dcb108c8-c451-4fb5-a5f5-c2880b088176
END:VEVENT
END:VCALENDAR
