BEGIN:VCALENDAR
VERSION:2.0
PRODID:-//kellogg.northwestern.edu///Outlook MIMEDIR//EN
X-WR-CALNAME: All Faculty Events
BEGIN:VEVENT
DTSTAMP:20260421T120423Z
DTSTART:20181105T200000Z
DTEND:20181105T210000Z
SUMMARY:Zhengyang Jiang
X-ALT-DESC;FMTTYPE=text/html:"US Fiscal Cycle and the Dollar”
DESCRIPTION:"US Fiscal Cycle and the Dollar”
LOCATION:Kellogg Global Hub 4302
SEQUENCE:0
UID:db635548-7177-43f5-9299-a9c0b3492d87
END:VEVENT
END:VCALENDAR
