BEGIN:VCALENDAR
VERSION:2.0
PRODID:-//kellogg.northwestern.edu///Outlook MIMEDIR//EN
X-WR-CALNAME: All Faculty Events
BEGIN:VEVENT
DTSTAMP:20260421T093633Z
DTSTART:20260224T180500Z
DTEND:20260224T190500Z
SUMMARY:Zak El Amrani El Idrissi
X-ALT-DESC;FMTTYPE=text/html:Forward Looking Adoption Under Policy Uncertainty: Evidence from Healthcare
DESCRIPTION:Forward Looking Adoption Under Policy Uncertainty: Evidence from Healthcare
LOCATION:5101
SEQUENCE:0
UID:db56f394-257a-4a95-b48e-8b0dbfdb5c43
END:VEVENT
END:VCALENDAR
