BEGIN:VCALENDAR
VERSION:2.0
PRODID:-//kellogg.northwestern.edu///Outlook MIMEDIR//EN
X-WR-CALNAME: All Faculty Events
BEGIN:VEVENT
DTSTAMP:20260419T100624Z
DTSTART:20230531T184500Z
DTEND:20230531T200000Z
SUMMARY:Charles Murry
X-ALT-DESC;FMTTYPE=text/html:The Evolution of Market Power in the US Automobile Industry
DESCRIPTION:The Evolution of Market Power in the US Automobile Industry
LOCATION:Kellogg Global Hub 4101, virtual option
SEQUENCE:0
UID:db23f510-e074-488e-8984-fd3c9aa264f8
END:VEVENT
END:VCALENDAR
