BEGIN:VCALENDAR
VERSION:2.0
PRODID:-//kellogg.northwestern.edu///Outlook MIMEDIR//EN
X-WR-CALNAME: All Faculty Events
BEGIN:VEVENT
DTSTAMP:20260424T082621Z
DTSTART:20260316T120000Z
DTEND:20260320T173000Z
SUMMARY:Governing Family Enterprises
X-ALT-DESC;FMTTYPE=text/html:Explore the specialized knowledge and skills unique to governing a complex family enterprise effectively. In a collaborative, supportive environment alongside representatives of other enterprising families facing similar issues, you and your family owners, board members and executives can tackle together the complex issues of continuity and governance. 
DESCRIPTION:Explore the specialized knowledge and skills unique to governing a complex family enterprise effectively. In a collaborative, supportive environment alongside representatives of other enterprising families facing similar issues, you and your family owners, board members and executives can tackle together the complex issues of continuity and governance. 
LOCATION:Blended Virtual and In-Person / Chicago Campus
SEQUENCE:0
UID:d9f55008-e94d-42c1-ad27-2a096993a3f4
END:VEVENT
END:VCALENDAR
