BEGIN:VCALENDAR
VERSION:2.0
PRODID:-//kellogg.northwestern.edu///Outlook MIMEDIR//EN
X-WR-CALNAME: All Faculty Events
BEGIN:VEVENT
DTSTAMP:20260424T100808Z
DTSTART:20200226T193000Z
DTEND:20200226T204500Z
SUMMARY:Mark Bradshaw
X-ALT-DESC;FMTTYPE=text/html:Title TBA
DESCRIPTION:Title TBA
LOCATION:Kellogg Global Hub 4302
SEQUENCE:0
UID:d8bf6753-ab01-49af-ba28-c673fb5ba156
END:VEVENT
END:VCALENDAR
