BEGIN:VCALENDAR
VERSION:2.0
PRODID:-//kellogg.northwestern.edu///Outlook MIMEDIR//EN
X-WR-CALNAME: All Faculty Events
BEGIN:VEVENT
DTSTAMP:20260424T180941Z
DTSTART:20260411T050000Z
DTEND:20260411T050000Z
SUMMARY:India Business Conference
X-ALT-DESC;FMTTYPE=text/html:The India Question: How India leads growth and innovation amid global uncertainty
DESCRIPTION:The India Question: How India leads growth and innovation amid global uncertainty
LOCATION:Kellogg Global Hub
SEQUENCE:0
UID:d89cc470-128e-4a98-937c-c65fcd7f0265
END:VEVENT
END:VCALENDAR
