BEGIN:VCALENDAR
VERSION:2.0
PRODID:-//kellogg.northwestern.edu///Outlook MIMEDIR//EN
X-WR-CALNAME: All Faculty Events
BEGIN:VEVENT
DTSTAMP:20260421T081338Z
DTSTART:20190109T170000Z
DTEND:20190109T181500Z
SUMMARY:Alison Xu
X-ALT-DESC;FMTTYPE=text/html:
DESCRIPTION:
LOCATION:Kellogg Global Hub 1110
SEQUENCE:0
UID:d7397754-060c-419b-bf62-b8ef6a193106
END:VEVENT
END:VCALENDAR
