BEGIN:VCALENDAR
VERSION:2.0
PRODID:-//kellogg.northwestern.edu///Outlook MIMEDIR//EN
X-WR-CALNAME: All Faculty Events
BEGIN:VEVENT
DTSTAMP:20260421T064851Z
DTSTART:20200311T170000Z
DTEND:20200311T183000Z
SUMMARY:Geoffrey West
X-ALT-DESC;FMTTYPE=text/html:Towards a Quantitative Science of Cities and Companies. What Can We Learn from Biology and Physics?
DESCRIPTION:Towards a Quantitative Science of Cities and Companies. What Can We Learn from Biology and Physics?
LOCATION:Kellogg Global Hub L070
SEQUENCE:0
UID:d70abb6b-d1d3-45e7-b26e-99166b25df2c
END:VEVENT
END:VCALENDAR
