BEGIN:VCALENDAR
VERSION:2.0
PRODID:-//kellogg.northwestern.edu///Outlook MIMEDIR//EN
X-WR-CALNAME: All Faculty Events
BEGIN:VEVENT
DTSTAMP:20260421T114004Z
DTSTART:20181204T180500Z
DTEND:20181204T183500Z
SUMMARY:Andres Espitia
X-ALT-DESC;FMTTYPE=text/html:"Research Careers"
DESCRIPTION:"Research Careers"
LOCATION:Kellogg Global Hub 4302
SEQUENCE:0
UID:d6bdf0a3-7440-4a33-ba1c-c83b45e815df
END:VEVENT
END:VCALENDAR
