BEGIN:VCALENDAR
VERSION:2.0
PRODID:-//kellogg.northwestern.edu///Outlook MIMEDIR//EN
X-WR-CALNAME: All Faculty Events
BEGIN:VEVENT
DTSTAMP:20260420T183016Z
DTSTART:20240905T130000Z
DTEND:20240906T213000Z
SUMMARY:GPRL-IPA Researcher Gathering 2024
X-ALT-DESC;FMTTYPE=text/html:IPA and the Global Poverty Research Lab (GPRL) at Northwestern University will host the 2024 Annual Researcher Gathering.
DESCRIPTION:IPA and the Global Poverty Research Lab (GPRL) at Northwestern University will host the 2024 Annual Researcher Gathering.
LOCATION:Norris University Center
1999 Campus Dr, Evanston, IL 60208
SEQUENCE:0
UID:d6054fd4-703a-4e28-8518-e4954eebbdd2
END:VEVENT
END:VCALENDAR
