BEGIN:VCALENDAR
VERSION:2.0
PRODID:-//kellogg.northwestern.edu///Outlook MIMEDIR//EN
X-WR-CALNAME: All Faculty Events
BEGIN:VEVENT
DTSTAMP:20260423T125627Z
DTSTART:20210505T170000Z
DTEND:20210505T183000Z
SUMMARY:Alison Wood Brooks
X-ALT-DESC;FMTTYPE=text/html:"How to Talk Gooder: Managing Topics in Conversation"
DESCRIPTION:"How to Talk Gooder: Managing Topics in Conversation"
LOCATION:Virtual Event
SEQUENCE:0
UID:d40f26b8-7b9e-449d-a540-674cf6db8c58
END:VEVENT
END:VCALENDAR
