BEGIN:VCALENDAR
VERSION:2.0
PRODID:-//kellogg.northwestern.edu///Outlook MIMEDIR//EN
X-WR-CALNAME: All Faculty Events
BEGIN:VEVENT
DTSTAMP:20260419T100721Z
DTSTART:20190529T170000Z
DTEND:20190529T180000Z
SUMMARY:Robert Boute
X-ALT-DESC;FMTTYPE=text/html:"Pricing Service Maintenance Contracts Using Predictive Analytics"
DESCRIPTION:"Pricing Service Maintenance Contracts Using Predictive Analytics"
LOCATION:Kellogg Global Hub 5301
SEQUENCE:0
UID:d28e53cb-ff19-4067-a9b2-108e6d0e65af
END:VEVENT
END:VCALENDAR
