BEGIN:VCALENDAR
VERSION:2.0
PRODID:-//kellogg.northwestern.edu///Outlook MIMEDIR//EN
X-WR-CALNAME: All Faculty Events
BEGIN:VEVENT
DTSTAMP:20260421T174712Z
DTSTART:20170215T170000Z
DTEND:20170215T181500Z
SUMMARY:Tulin Erdem
X-ALT-DESC;FMTTYPE=text/html:Consumer Purchase Decision-Making in Hypercomplex Decision Environments
DESCRIPTION:Consumer Purchase Decision-Making in Hypercomplex Decision Environments
LOCATION:James L. Allen Center 221
SEQUENCE:0
UID:d0af8d46-1ce8-4ec3-a355-cbd2a0860fe0
END:VEVENT
END:VCALENDAR
