BEGIN:VCALENDAR
VERSION:2.0
PRODID:-//kellogg.northwestern.edu///Outlook MIMEDIR//EN
X-WR-CALNAME: All Faculty Events
BEGIN:VEVENT
DTSTAMP:20260421T135142Z
DTSTART:20191105T180500Z
DTEND:20191105T190500Z
SUMMARY:Edwin Munoz-Rodriguez
X-ALT-DESC;FMTTYPE=text/html:"Strategic Timing of Reports in the U.S. Market for Livers:  Evidence and Welfare Implications"
DESCRIPTION:"Strategic Timing of Reports in the U.S. Market for Livers:  Evidence and Welfare Implications"
LOCATION:Kellogg Global Hub 4302
SEQUENCE:0
UID:cf1c083b-a3bd-4a82-adca-f8f864eb5ff9
END:VEVENT
END:VCALENDAR
