BEGIN:VCALENDAR
VERSION:2.0
PRODID:-//kellogg.northwestern.edu///Outlook MIMEDIR//EN
X-WR-CALNAME: All Faculty Events
BEGIN:VEVENT
DTSTAMP:20260422T114351Z
DTSTART:20190424T183000Z
DTEND:20190424T200000Z
SUMMARY:Jon Gruber
X-ALT-DESC;FMTTYPE=text/html:"Managing Intelligence: Skilled Experts and AI in Markets for Complex Products" 
DESCRIPTION:"Managing Intelligence: Skilled Experts and AI in Markets for Complex Products" 
LOCATION:Kellogg Global Hub 4101
SEQUENCE:0
UID:ce6d0218-aa91-41ee-b9c0-e99c632b10fa
END:VEVENT
END:VCALENDAR
