BEGIN:VCALENDAR
VERSION:2.0
PRODID:-//kellogg.northwestern.edu///Outlook MIMEDIR//EN
X-WR-CALNAME: All Faculty Events
BEGIN:VEVENT
DTSTAMP:20260421T221223Z
DTSTART:20251006T180000Z
DTEND:20251006T190000Z
SUMMARY:Kellogg Insight Webinar with Nancy Qian
X-ALT-DESC;FMTTYPE=text/html:The Insightful Leader Live: The Trends That Matter in the Global Economy
DESCRIPTION:The Insightful Leader Live: The Trends That Matter in the Global Economy
LOCATION:Zoom
SEQUENCE:0
UID:cb04e3e5-941f-420b-a802-6988012b4366
END:VEVENT
END:VCALENDAR
