BEGIN:VCALENDAR
VERSION:2.0
PRODID:-//kellogg.northwestern.edu///Outlook MIMEDIR//EN
X-WR-CALNAME: All Faculty Events
BEGIN:VEVENT
DTSTAMP:20260425T205934Z
DTSTART:20171128T180000Z
DTEND:20171128T193000Z
SUMMARY:Michal Zator
X-ALT-DESC;FMTTYPE=text/html:Household Debt and Labor Supply
DESCRIPTION:Household Debt and Labor Supply
LOCATION:Kellogg Global Hub 4302
SEQUENCE:0
UID:ca586384-c0ab-40eb-8205-f0aca85d20ed
END:VEVENT
END:VCALENDAR
