BEGIN:VCALENDAR
VERSION:2.0
PRODID:-//kellogg.northwestern.edu///Outlook MIMEDIR//EN
X-WR-CALNAME: All Faculty Events
BEGIN:VEVENT
DTSTAMP:20260419T154559Z
DTSTART:20191001T170500Z
DTEND:20191001T183500Z
SUMMARY:Philip Marx
X-ALT-DESC;FMTTYPE=text/html:"Sharp Extrapolation in Instrumental Variable Models"
DESCRIPTION:"Sharp Extrapolation in Instrumental Variable Models"
LOCATION:Kellogg Global Hub 4302
SEQUENCE:0
UID:c9aab2d0-bcbf-4307-a6f2-1c21824e2f2d
END:VEVENT
END:VCALENDAR
