BEGIN:VCALENDAR
VERSION:2.0
PRODID:-//kellogg.northwestern.edu///Outlook MIMEDIR//EN
X-WR-CALNAME: All Faculty Events
BEGIN:VEVENT
DTSTAMP:20260425T055651Z
DTSTART:20210920T170000Z
DTEND:20210920T181500Z
SUMMARY:Yu Ding
X-ALT-DESC;FMTTYPE=text/html:Fact-checking Matters: A Novel Crowdsourcing Approach for Improving the Information Ecosystem
DESCRIPTION:Fact-checking Matters: A Novel Crowdsourcing Approach for Improving the Information Ecosystem
LOCATION:Virtual Event TBD
SEQUENCE:0
UID:c972ec4c-5570-4362-a7b7-d97f8beb542d
END:VEVENT
END:VCALENDAR
