BEGIN:VCALENDAR
VERSION:2.0
PRODID:-//kellogg.northwestern.edu///Outlook MIMEDIR//EN
X-WR-CALNAME: All Faculty Events
BEGIN:VEVENT
DTSTAMP:20260421T095252Z
DTSTART:20230503T183000Z
DTEND:20230503T200000Z
SUMMARY:Regina Wittenberg-Moerman
X-ALT-DESC;FMTTYPE=text/html:Digital Lending and Financial Well-Being: Evidence from a Developing Economy
DESCRIPTION:Digital Lending and Financial Well-Being: Evidence from a Developing Economy
LOCATION:Kellogg Global Hub KGH 4302
SEQUENCE:0
UID:c9347660-0e64-45bf-bcd9-9532e7a0eb1a
END:VEVENT
END:VCALENDAR
