BEGIN:VCALENDAR
VERSION:2.0
PRODID:-//kellogg.northwestern.edu///Outlook MIMEDIR//EN
X-WR-CALNAME: All Faculty Events
BEGIN:VEVENT
DTSTAMP:20260419T100951Z
DTSTART:20250430T184500Z
DTEND:20250430T200000Z
SUMMARY:Alessandro Gavazza
X-ALT-DESC;FMTTYPE=text/html:Bank Deposit Pricing in the Euro Zone
DESCRIPTION:Bank Deposit Pricing in the Euro Zone
LOCATION:Kellogg Global Hub KGH 5101
SEQUENCE:0
UID:c8949ddd-e44b-4f25-a012-71d71d62fce4
END:VEVENT
END:VCALENDAR
