BEGIN:VCALENDAR
VERSION:2.0
PRODID:-//kellogg.northwestern.edu///Outlook MIMEDIR//EN
X-WR-CALNAME: All Faculty Events
BEGIN:VEVENT
DTSTAMP:20260425T110227Z
DTSTART:20190319T170500Z
DTEND:20190319T180500Z
SUMMARY:Georgio Zanarone
X-ALT-DESC;FMTTYPE=text/html:“The Value of Relational Contracts in Outsourcing: Evidence from the 2008 shock to the US Airline Industry”
DESCRIPTION:“The Value of Relational Contracts in Outsourcing: Evidence from the 2008 shock to the US Airline Industry”
LOCATION:Kellogg Global Hub 4302
SEQUENCE:0
UID:c6dd84c3-6f14-4b41-9825-fa339086a163
END:VEVENT
END:VCALENDAR
