BEGIN:VCALENDAR
VERSION:2.0
PRODID:-//kellogg.northwestern.edu///Outlook MIMEDIR//EN
X-WR-CALNAME: All Faculty Events
BEGIN:VEVENT
DTSTAMP:20260421T201614Z
DTSTART:20240923T183000Z
DTEND:20240923T200000Z
SUMMARY:Will Dobbie
X-ALT-DESC;FMTTYPE=text/html:Changing Opportunity: Sociological Mechanisms Underlying Growing Class Gaps and Shrinking Race Gaps in Economic Mobility
DESCRIPTION:Changing Opportunity: Sociological Mechanisms Underlying Growing Class Gaps and Shrinking Race Gaps in Economic Mobility
LOCATION:Kellogg Global Hub KGH 5101
SEQUENCE:0
UID:c6a3df0d-c4c4-4535-8435-df3b2b26bbee
END:VEVENT
END:VCALENDAR
