BEGIN:VCALENDAR
VERSION:2.0
PRODID:-//kellogg.northwestern.edu///Outlook MIMEDIR//EN
X-WR-CALNAME: All Faculty Events
BEGIN:VEVENT
DTSTAMP:20260421T044208Z
DTSTART:20190925T203000Z
DTEND:20190925T220000Z
SUMMARY:Laura Doval
X-ALT-DESC;FMTTYPE=text/html:"Optimal Mechanism for the Sale of a Durable Good"
DESCRIPTION:"Optimal Mechanism for the Sale of a Durable Good"
LOCATION:Kellogg Global Hub 5101
SEQUENCE:0
UID:c526393e-d9fa-441d-aa1b-9005135e53f5
END:VEVENT
END:VCALENDAR
